BEGIN:VCALENDAR
VERSION:2.0
PRODID:
BEGIN:VEVENT
UID:041142kea
DTSTAMP:20260421T120850Z
DTSTART:20260519T153000Z
DTEND:20260520T233000Z
LOCATION: Circa Resort & Casino (Las Vegas\, 89101)
SUMMARY: 47th Annual Gaming Conference
DESCRIPTION: \n  \nClick <a href="https://files.constantcontact.com/149712cb001/dd443c62-9c34-4e9c-b2c0-870003f27e2e.pdf">here</a> for conference agenda.\n  \n\n  \n \n  
CLASS:PUBLIC
END:VEVENT
END:VCALENDAR
