BEGIN:VCALENDAR
VERSION:2.0
PRODID:
BEGIN:VEVENT
UID:041103mb
DTSTAMP:20260422T111935Z
DTSTART:20260422T130000Z
DTEND:20260422T140000Z
SUMMARY: Learning to Teach "Tax" as a Second Language
DESCRIPTION: Sometimes the vernacular of accounting seems more challenging than technical aspects. This session offers suggestions for translating the foreign language of taxation into tangible terms for non-accountants. We explore techniques for simplifying the complexity of taxation terminology. This course will equip you with tools for demystifying tax technicalities so you can help clients and other non-tax professionals grasp fundamental concepts.

This event may be a rebroadcast of a live event and the instructor will be available to answer your questions during the event.
CLASS:PUBLIC
END:VEVENT
END:VCALENDAR
